BEGIN:VCALENDAR
VERSION:2.0
PRODID:-//wp-events-plugin.com//7.2.3.1//EN
BEGIN:VEVENT
UID:28@tsg-niederfuellbach.de
DTSTART:20260514T093000Z
DTEND:20260514T133000Z
DTSTAMP:20251011T070730Z
URL:https://www.tsg-niederfuellbach.de/events/tsg-vatertagsbiergarten-3/
SUMMARY:TSG-Vatertagsbiergarten
DESCRIPTION:
LOCATION:TSG-Sportgelände\, Schloßstr. 13\, Niederfüllbach\, 96489\, Deu
 tschland
X-APPLE-STRUCTURED-LOCATION;VALUE=URI;X-ADDRESS=Schloßstr. 13\, Niederfül
 lbach\, 96489\, Deutschland;X-APPLE-RADIUS=100;X-TITLE=TSG-Sportgelände:g
 eo:0,0
END:VEVENT
END:VCALENDAR